BEGIN:VCALENDAR
VERSION:2.0
PRODID:-//Learn Traditional Goju Ryu Karate in New Zealand! - ECPv6.15.20//NONSGML v1.0//EN
CALSCALE:GREGORIAN
METHOD:PUBLISH
X-WR-CALNAME:Learn Traditional Goju Ryu Karate in New Zealand!
X-ORIGINAL-URL:https://karate.org.nz
X-WR-CALDESC:Events for Learn Traditional Goju Ryu Karate in New Zealand!
REFRESH-INTERVAL;VALUE=DURATION:PT1H
X-Robots-Tag:noindex
X-PUBLISHED-TTL:PT1H
BEGIN:VTIMEZONE
TZID:UTC
BEGIN:STANDARD
TZOFFSETFROM:+0000
TZOFFSETTO:+0000
TZNAME:UTC
DTSTART:20160101T000000
END:STANDARD
END:VTIMEZONE
BEGIN:VEVENT
DTSTART;TZID=UTC:20171006T161500
DTEND;TZID=UTC:20171008T130000
DTSTAMP:20260425T004539
CREATED:20160815T184237Z
LAST-MODIFIED:20170825T141146Z
UID:1135-1507306500-1507467600@karate.org.nz
SUMMARY:2017 Hawkes' Bay Spring Camp
DESCRIPTION:The Napier/Taradale dojo is hosting the Hawkes’ Bay Spring Camp which will be held at the Omatua Girl Guides Camp from 6 – 8 October 2017. \nFull details and registration form are available here – HB 2017 Info and registration
URL:https://karate.org.nz/event/2017-hawkes-bay-spring-camp/
LOCATION:Omatua Girl Guides Complex\, 1866 Puketitiri Road\, Rissington\, Napier \, Napier\, New Zealand
ORGANIZER;CN="Greg Meagher":MAILTO:taradalenapierkarate@gmail.com
END:VEVENT
END:VCALENDAR