BEGIN:VCALENDAR
VERSION:2.0
PRODID:-//Goju Ryu Karate - IOGKFNZ - ECPv4.6.6//NONSGML v1.0//EN
CALSCALE:GREGORIAN
METHOD:PUBLISH
X-WR-CALNAME:Goju Ryu Karate - IOGKFNZ
X-ORIGINAL-URL:http://karate.org.nz
X-WR-CALDESC:Events for Goju Ryu Karate - IOGKFNZ
BEGIN:VEVENT
DTSTART;TZID=UTC+0:20170915T130000
DTEND;TZID=UTC+0:20170917T150000
DTSTAMP:20180122T181111
CREATED:20170721T223209Z
LAST-MODIFIED:20170721T223758Z
UID:1241-1505480400-1505660400@karate.org.nz
SUMMARY:2017 IOGKF Australia National Gasshuku
DESCRIPTION:IOGKF Australia are hosting their National Gasshuku in Narabeen\, Sydney with special guest instructorIOGKF World Chief Instructor Nakamura Tetsuji Sensei \nFor full details visit http://www.iogkfaustralia.com/iogkf-australia-narrabeen-gasshuku-september-2017/ \n \n
URL:http://karate.org.nz/event/2017-iogkf-australia-national-gasshuku/
LOCATION:Narabeen\, Sydney\, Australia
ORGANIZER;CN="Janet%20Young":MAILTO:secretary@iogkfaustralia.com
END:VEVENT
END:VCALENDAR