BEGIN:VCALENDAR
VERSION:2.0
PRODID:-//Learn Traditional Goju Ryu Karate in New Zealand! - ECPv6.15.20//NONSGML v1.0//EN
CALSCALE:GREGORIAN
METHOD:PUBLISH
X-WR-CALNAME:Learn Traditional Goju Ryu Karate in New Zealand!
X-ORIGINAL-URL:https://karate.org.nz
X-WR-CALDESC:Events for Learn Traditional Goju Ryu Karate in New Zealand!
REFRESH-INTERVAL;VALUE=DURATION:PT1H
X-Robots-Tag:noindex
X-PUBLISHED-TTL:PT1H
BEGIN:VTIMEZONE
TZID:UTC
BEGIN:STANDARD
TZOFFSETFROM:+0000
TZOFFSETTO:+0000
TZNAME:UTC
DTSTART:20160101T000000
END:STANDARD
END:VTIMEZONE
BEGIN:VEVENT
DTSTART;TZID=UTC:20170825T180000
DTEND;TZID=UTC:20170827T150000
DTSTAMP:20260425T004815
CREATED:20160617T131240Z
LAST-MODIFIED:20170501T174741Z
UID:1114-1503684000-1503846000@karate.org.nz
SUMMARY:2017 IOGKFNZ South Island Blackbelt camp and grading
DESCRIPTION:Otago University club is hosting the 2017 South Island Blackbelt camp and grading. Instructors are Sensei Brian McGhie\, 6th Dan and Sensei John Marrable\, 6th Dan.\nFull details are available at: 2017 Black belt camp \nPLEASE NOTE:  This is the weekend of the Bledisloe Cup rugby match in Dunedin\, accommodation might be scarce so book early. \n  \nGrading candidates instructors should contact Sensei John or Sensei Blair with candidate details for the grading.
URL:https://karate.org.nz/event/2017-iogkfnz-south-island-blackbelt-camp-and-grading/
LOCATION:Unipol Recreation Centre\, Anzac Avenue\, Dunedin\, Otago\, New Zealand
ORGANIZER;CN="Blair Kennedy":MAILTO:blairkennedy1@xtra.co.nz
END:VEVENT
END:VCALENDAR