BEGIN:VCALENDAR
VERSION:2.0
PRODID:-//Learn Traditional Goju Ryu Karate in New Zealand! - ECPv6.15.20//NONSGML v1.0//EN
CALSCALE:GREGORIAN
METHOD:PUBLISH
X-WR-CALNAME:Learn Traditional Goju Ryu Karate in New Zealand!
X-ORIGINAL-URL:https://karate.org.nz
X-WR-CALDESC:Events for Learn Traditional Goju Ryu Karate in New Zealand!
REFRESH-INTERVAL;VALUE=DURATION:PT1H
X-Robots-Tag:noindex
X-PUBLISHED-TTL:PT1H
BEGIN:VTIMEZONE
TZID:UTC
BEGIN:STANDARD
TZOFFSETFROM:+0000
TZOFFSETTO:+0000
TZNAME:UTC
DTSTART:20160101T000000
END:STANDARD
END:VTIMEZONE
BEGIN:VEVENT
DTSTART;TZID=UTC:20170624T103000
DTEND;TZID=UTC:20170625T153000
DTSTAMP:20260425T004621
CREATED:20160506T172721Z
LAST-MODIFIED:20170518T184226Z
UID:1103-1498300200-1498404600@karate.org.nz
SUMMARY:2017 South Island Junior Training Camp and Kyu Grading
DESCRIPTION:The Gore Karate club is hosting the 2017 South Island Junior training camp and Kyu grading. \nFull details are available at: Additional Info 2017Grading Camp \nEnrolment form available at: South Island Junior Camp Enrolment 2017 \n  \n 
URL:https://karate.org.nz/event/2017-south-island-grading-camp-2017/
LOCATION:St Andrews Hall\, 4 Devon Street\, Gore\, New Zealand
END:VEVENT
END:VCALENDAR