BEGIN:VCALENDAR
VERSION:2.0
PRODID:-//Goju Ryu Karate - IOGKFNZ - ECPv4.6.6//NONSGML v1.0//EN
CALSCALE:GREGORIAN
METHOD:PUBLISH
X-WR-CALNAME:Goju Ryu Karate - IOGKFNZ
X-ORIGINAL-URL:http://karate.org.nz
X-WR-CALDESC:Events for Goju Ryu Karate - IOGKFNZ
BEGIN:VEVENT
DTSTART;TZID=UTC+0:20180427T170000
DTEND;TZID=UTC+0:20180429T130000
DTSTAMP:20180122T181129
CREATED:20171018T050943Z
LAST-MODIFIED:20171018T051528Z
UID:1275-1524848400-1525006800@karate.org.nz
SUMMARY:2018 CHB Regional Camp
DESCRIPTION:CHB Goju-Ryu Karate Club is hosting their regional camp at Camp Wakarara\, Onga-Onga. \nFull details and registration form are available from the link below: \nWakarara Camp 2018 \n
URL:http://karate.org.nz/event/2018-chb-regional-camp/
LOCATION:2 North Block Road\, Onga-Onga\, New Zealand
ORGANIZER;CN="Angela%20Severinsen":MAILTO:angelasev123@gmail.com
END:VEVENT
END:VCALENDAR