BEGIN:VCALENDAR
VERSION:2.0
PRODID:-//Goju Ryu Karate - IOGKFNZ - ECPv4.6.6//NONSGML v1.0//EN
CALSCALE:GREGORIAN
METHOD:PUBLISH
X-WR-CALNAME:Goju Ryu Karate - IOGKFNZ
X-ORIGINAL-URL:http://karate.org.nz
X-WR-CALDESC:Events for Goju Ryu Karate - IOGKFNZ
BEGIN:VEVENT
DTSTART;TZID=UTC+0:20180316T080000
DTEND;TZID=UTC+0:20180318T170000
DTSTAMP:20180122T181120
CREATED:20171114T052449Z
LAST-MODIFIED:20171114T053043Z
UID:1289-1521187200-1521392400@karate.org.nz
SUMMARY:2018 IOGKF Australia National Gasshuku
DESCRIPTION:IOGKF Australia is hosting their National Gasshuku in Newcastle woth speacial guest instructor Katsuya Yamashiro Sensei\, 8th Dan. \nFor full details visit the Facebook page for this event \n \n
URL:http://karate.org.nz/event/2018-iogkf-australia-national-gasshuku/
LOCATION:Young Rd & Melbourne Rd\, Broadmeadow\, NSW\, 2292\, Australia
END:VEVENT
END:VCALENDAR