BEGIN:VCALENDAR
VERSION:2.0
PRODID:-//Learn Traditional Goju Ryu Karate in New Zealand! - ECPv6.15.20//NONSGML v1.0//EN
CALSCALE:GREGORIAN
METHOD:PUBLISH
X-WR-CALNAME:Learn Traditional Goju Ryu Karate in New Zealand!
X-ORIGINAL-URL:https://karate.org.nz
X-WR-CALDESC:Events for Learn Traditional Goju Ryu Karate in New Zealand!
REFRESH-INTERVAL;VALUE=DURATION:PT1H
X-Robots-Tag:noindex
X-PUBLISHED-TTL:PT1H
BEGIN:VTIMEZONE
TZID:Pacific/Auckland
BEGIN:STANDARD
TZOFFSETFROM:+1300
TZOFFSETTO:+1200
TZNAME:NZST
DTSTART:20200404T140000
END:STANDARD
BEGIN:DAYLIGHT
TZOFFSETFROM:+1200
TZOFFSETTO:+1300
TZNAME:NZDT
DTSTART:20200926T140000
END:DAYLIGHT
BEGIN:STANDARD
TZOFFSETFROM:+1300
TZOFFSETTO:+1200
TZNAME:NZST
DTSTART:20210403T140000
END:STANDARD
BEGIN:DAYLIGHT
TZOFFSETFROM:+1200
TZOFFSETTO:+1300
TZNAME:NZDT
DTSTART:20210925T140000
END:DAYLIGHT
BEGIN:STANDARD
TZOFFSETFROM:+1300
TZOFFSETTO:+1200
TZNAME:NZST
DTSTART:20220402T140000
END:STANDARD
BEGIN:DAYLIGHT
TZOFFSETFROM:+1200
TZOFFSETTO:+1300
TZNAME:NZDT
DTSTART:20220924T140000
END:DAYLIGHT
END:VTIMEZONE
BEGIN:VEVENT
DTSTART;VALUE=DATE:20211029
DTEND;VALUE=DATE:20211101
DTSTAMP:20260424T233009
CREATED:20201118T073342Z
LAST-MODIFIED:20220921T211122Z
UID:1657-1635465600-1635724799@karate.org.nz
SUMMARY:Combined East Coast Goju Ryu November Spring Camp
DESCRIPTION:Combined East Coast Goju Ryu November Spring Camp\nFriday 29 – Sunday 31 OCTOBER 2021\nRissington Girl Guide Camp\, Hawke’s Bay \nGreat People\, Great Food & Great Training! \nMore details to follow.
URL:https://karate.org.nz/event/combined-east-coast-goju-ryu-november-spring-camp/
END:VEVENT
END:VCALENDAR